View In:
ArcGIS JavaScript
ArcGIS Portal map viewer
ArcGIS Earth
Service Description: AnaheimDEM
Name: AnaheimDEM
Description:
Single Fused Map Cache: true
Tile Info:
- Height: 256
- Width: 256
- DPI: 96
-
Levels of Detail: 15
- Format: LERC
- Compression Quality: 0.0
- LERC Error: 0.1
- Origin: X: -1.186089E8
Y: 1.5908159999999997E8
- Spatial Reference: 102646
(2230)
Storage Info:
- Storage Format: esriMapCacheStorageModeCompactV2
- Packet Size: 128
Extent:
XMin: 6024795.5995228905
YMin: 2233991.670126026
XMax: 6129785.5995228905
YMax: 2266801.670126026
Spatial Reference: 102646
(2230)
Initial Extent:
XMin: 6024795.5995228905
YMin: 2233991.670126026
XMax: 6129785.5995228905
YMax: 2266801.670126026
Spatial Reference: 102646
(2230)
Full Extent:
XMin: 6024795.5995228905
YMin: 2233991.670126026
XMax: 6129785.5995228905
YMax: 2266801.670126026
Spatial Reference: 102646
(2230)
Pixel Size X: 10.0
Pixel Size Y: 10.0
Band Count: 1
Pixel Type: F32
RasterFunction Infos: {"rasterFunctionInfos": [{
"name": "None",
"description": "",
"help": ""
}]}
Mensuration Capabilities: Basic
Has Histograms: true
Has Colormap: false
Has Multi Dimensions : false
Rendering Rule:
Min Scale: 1228800
Max Scale: 75
Min LOD: 0
Max LOD: 10
Copyright Text:
Service Data Type: esriImageServiceDataTypeGeneric
Min Values: 42.386539459228516
Max Values: 1543.3824462890625
Mean Values: 319.3407185446677
Standard Deviation Values: 273.9309962176237
Object ID Field:
Fields:
None
Default Mosaic Method: Center
Allowed Mosaic Methods:
SortField:
SortValue: null
Mosaic Operator: First
Default Compression Quality: 100000
Default Resampling Method: Bilinear
Max Record Count: null
Max Image Height: 4100
Max Image Width: 15000
Max Download Image Count: null
Max Mosaic Image Count: null
Allow Raster Function: true
Allow Copy: true
Allow Analysis: true
Allow Compute TiePoints: false
Supports Statistics: false
Supports Advanced Queries: false
Use StandardizedQueries: true
Raster Type Infos:
Name: Raster Dataset
Description: Supports all ArcGIS Raster Datasets
Help:
Has Raster Attribute Table: false
Edit Fields Info: null
Ownership Based AccessControl For Rasters: null
Child Resources:
Info
Histograms
Statistics
Key Properties
Legend
Raster Function Infos
Supported Operations:
Export Image
Identify
Measure
Compute Histograms
Compute Statistics Histograms
Get Samples
Compute Class Statistics
Query Boundary
Compute Pixel Location
Compute Angles
Validate
Project