View In:
ArcGIS JavaScript
ArcGIS Online Map Viewer
ArcGIS Earth
Service Description: DEM2023
Name: DEM2023
Description:
Single Fused Map Cache: false
Extent:
XMin: 6024795.599522894
YMin: 2233991.6701260316
XMax: 6129785.599522894
YMax: 2266801.6701260316
Spatial Reference: PROJCS["NAD_1983_HARN_StatePlane_California_6_FIPS_0406_Feet",GEOGCS["GCS_NAD83_CALIFORNIA_NORTH_HARN",DATUM["D_North_American_1983_HARN",SPHEROID["GRS_1980",6378137.0,298.257222101]],PRIMEM["Greenwich",0.0],UNIT["Degree",0.0174532925199433]],PROJECTION["Lambert_Conformal_Conic"],PARAMETER["false_easting",6561666.666666667],PARAMETER["false_northing",1640416.666666667],PARAMETER["central_meridian",-116.25],PARAMETER["standard_parallel_1",32.78333333333333],PARAMETER["standard_parallel_2",33.88333333333333],PARAMETER["scale_factor",1.0],PARAMETER["latitude_of_origin",32.16666666666666],UNIT["Foot_US",0.3048006096012192]]
Initial Extent:
XMin: 6024795.599522894
YMin: 2233991.6701260316
XMax: 6129785.599522894
YMax: 2266801.6701260316
Spatial Reference: PROJCS["NAD_1983_HARN_StatePlane_California_6_FIPS_0406_Feet",GEOGCS["GCS_NAD83_CALIFORNIA_NORTH_HARN",DATUM["D_North_American_1983_HARN",SPHEROID["GRS_1980",6378137.0,298.257222101]],PRIMEM["Greenwich",0.0],UNIT["Degree",0.0174532925199433]],PROJECTION["Lambert_Conformal_Conic"],PARAMETER["false_easting",6561666.666666667],PARAMETER["false_northing",1640416.666666667],PARAMETER["central_meridian",-116.25],PARAMETER["standard_parallel_1",32.78333333333333],PARAMETER["standard_parallel_2",33.88333333333333],PARAMETER["scale_factor",1.0],PARAMETER["latitude_of_origin",32.16666666666666],UNIT["Foot_US",0.3048006096012192]]
Full Extent:
XMin: 6024795.599522894
YMin: 2233991.6701260316
XMax: 6129785.599522894
YMax: 2266801.6701260316
Spatial Reference: PROJCS["NAD_1983_HARN_StatePlane_California_6_FIPS_0406_Feet",GEOGCS["GCS_NAD83_CALIFORNIA_NORTH_HARN",DATUM["D_North_American_1983_HARN",SPHEROID["GRS_1980",6378137.0,298.257222101]],PRIMEM["Greenwich",0.0],UNIT["Degree",0.0174532925199433]],PROJECTION["Lambert_Conformal_Conic"],PARAMETER["false_easting",6561666.666666667],PARAMETER["false_northing",1640416.666666667],PARAMETER["central_meridian",-116.25],PARAMETER["standard_parallel_1",32.78333333333333],PARAMETER["standard_parallel_2",33.88333333333333],PARAMETER["scale_factor",1.0],PARAMETER["latitude_of_origin",32.16666666666666],UNIT["Foot_US",0.3048006096012192]]
Pixel Size X: 10.0
Pixel Size Y: 10.0
Band Count: 1
Pixel Type: F32
RasterFunction Infos: {"rasterFunctionInfos": [{
"name": "None",
"description": "",
"help": ""
}]}
Mensuration Capabilities: Basic
Inspection Capabilities:
Has Histograms: true
Has Colormap: false
Has Multi Dimensions : false
Rendering Rule:
Min Scale: 0
Max Scale: 0
Copyright Text:
Service Data Type: esriImageServiceDataTypeGeneric
Min Values: 42.386539459228516
Max Values: 1543.3824462890625
Mean Values: 319.3407185446677
Standard Deviation Values: 273.93099621761337
Object ID Field:
Fields:
None
Default Mosaic Method: Center
Allowed Mosaic Methods:
SortField:
SortValue: null
Mosaic Operator: First
Default Compression Quality: 75
Default Resampling Method: Bilinear
Max Record Count: null
Max Image Height: 4100
Max Image Width: 15000
Max Download Image Count: null
Max Mosaic Image Count: null
Allow Raster Function: true
Allow Copy: true
Allow Analysis: true
Allow Compute TiePoints: false
Supports Statistics: false
Supports Advanced Queries: false
Use StandardizedQueries: true
Raster Type Infos:
Name: Raster Dataset
Description: Supports all ArcGIS Raster Datasets
Help:
Has Raster Attribute Table: false
Edit Fields Info: null
Ownership Based AccessControl For Rasters: null
Child Resources:
Info
Histograms
Statistics
Key Properties
Legend
Raster Function Infos
Supported Operations:
Export Image
Identify
Measure
Compute Histograms
Compute Statistics Histograms
Get Samples
Compute Class Statistics
Query Boundary
Compute Pixel Location
Compute Angles
Validate
Project