{
 "currentVersion": 11.5,
 "serviceDescription": "OrangeCountyDEM",
 "serviceItemId": "6813dc01ea184c579f55ce17316eaa60",
 "name": "OrangeCountyDEM",
 "description": "",
 "extent": {
  "xmin": 5981266.243095776,
  "ymin": 2081837.8381612161,
  "xmax": 6227729.505575776,
  "ymax": 2336644.276761216,
  "spatialReference": {
   "wkid": 102646,
   "latestWkid": 2230
  }
 },
 "initialExtent": {
  "xmin": 5981266.243095776,
  "ymin": 2081837.8381612161,
  "xmax": 6227729.505575776,
  "ymax": 2336644.276761216,
  "spatialReference": {
   "wkid": 102646,
   "latestWkid": 2230
  }
 },
 "fullExtent": {
  "xmin": 5981266.243095776,
  "ymin": 2081837.8381612161,
  "xmax": 6227729.505575776,
  "ymax": 2336644.276761216,
  "spatialReference": {
   "wkid": 102646,
   "latestWkid": 2230
  }
 },
 "sortableFields": "",
 "bandCount": 1,
 "pixelType": "F32",
 "minValues": [
  -21.08781623840332
 ],
 "maxValues": [
  5688.3291015625
 ],
 "meanValues": [
  847.7915427455895
 ],
 "stdvValues": [
  850.6245791821011
 ],
 "serviceProperties": "Center<\/MosaicMethod>First<\/MosaicOperator>true<\/SortAscending><\/LockImageID><\/TileOrderField>0<\/TileOrderBase>0.000000<\/AvgImageSpacingX>0.000000<\/AvgImageSpacingY>0.0<\/ViewPointX>0.0<\/ViewPointY>0.0<\/ViewPointDefShiftX>0.0<\/ViewPointDefShiftY>None<\/CompressionMethod>75<\/CompressionQuality>0.100000<\/CompressionTolerance>Bilinear<\/SamplingMethod><\/ImageServiceProperties><\/ImageServer>",
 "allowedFields": "",
 "hasMultidimensions": false,
 "pixelSizeX": 3.2808400000000004,
 "pixelSizeY": 3.28084,
 "meanPixelSize": 1.0000020320040643,
 "datasetFormat": "FGDBR",
 "uncompressedSize": 23337400520,
 "blockWidth": 128,
 "blockHeight": 128,
 "compressionType": "LZ77",
 "bandNames": [
  "Band_1"
 ],
 "allowCopy": true,
 "allowAnalysis": true,
 "itemAccess": false,
 "inspectionCapabilities": "",
 "minPixelSize": 0.23314757249996132,
 "maxPixelSize": 488945.8979634389,
 "copyrightText": "",
 "serviceDataType": "esriImageServiceDataTypeGeneric",
 "serviceSourceType": "esriImageServiceSourceTypeDataset",
 "objectIdField": "",
 "fields": [],
 "capabilities": "Image,Metadata,Mensuration",
 "defaultMosaicMethod": "Center",
 "allowedMosaicMethods": "",
 "sortField": "",
 "sortValue": null,
 "sortAscending": true,
 "mosaicOperator": "First",
 "defaultCompressionQuality": 75,
 "defaultResamplingMethod": "Bilinear",
 "maxImageHeight": 4100,
 "maxImageWidth": 15000,
 "singleFusedMapCache": true,
 "tileInfo": {
  "rows": 512,
  "cols": 512,
  "dpi": 96,
  "format": "LERC",
  "compressionQuality": 0,
  "lercError": 0.1,
  "origin": {
   "x": -1.186084832119737E8,
   "y": 1.0619283300464755E8
  },
  "spatialReference": {
   "wkid": 102646,
   "latestWkid": 2230
  },
  "lods": [
   {
    "level": 0,
    "resolution": 488945.8979634389,
    "scale": 5.632668009874835E8
   },
   {
    "level": 1,
    "resolution": 244472.94898171944,
    "scale": 2.8163340049374175E8
   },
   {
    "level": 2,
    "resolution": 122236.47449085972,
    "scale": 1.4081670024687088E8
   },
   {
    "level": 3,
    "resolution": 61118.23724542986,
    "scale": 7.040835012343544E7
   },
   {
    "level": 4,
    "resolution": 30559.11862271493,
    "scale": 3.520417506171772E7
   },
   {
    "level": 5,
    "resolution": 15279.559311357465,
    "scale": 1.760208753085886E7
   },
   {
    "level": 6,
    "resolution": 7639.7796556787325,
    "scale": 8801043.76542943
   },
   {
    "level": 7,
    "resolution": 3819.8898278393663,
    "scale": 4400521.882714715
   },
   {
    "level": 8,
    "resolution": 1909.9449139196831,
    "scale": 2200260.9413573574
   },
   {
    "level": 9,
    "resolution": 954.9724569598416,
    "scale": 1100130.4706786787
   },
   {
    "level": 10,
    "resolution": 477.4862284799208,
    "scale": 550065.2353393394
   },
   {
    "level": 11,
    "resolution": 238.7431142399604,
    "scale": 275032.6176696697
   },
   {
    "level": 12,
    "resolution": 119.3715571199802,
    "scale": 137516.30883483484
   },
   {
    "level": 13,
    "resolution": 59.6857785599901,
    "scale": 68758.15441741742
   },
   {
    "level": 14,
    "resolution": 29.84288927999505,
    "scale": 34379.07720870871
   },
   {
    "level": 15,
    "resolution": 14.921444639997524,
    "scale": 17189.538604354355
   },
   {
    "level": 16,
    "resolution": 7.460722319998762,
    "scale": 8594.769302177177
   },
   {
    "level": 17,
    "resolution": 3.730361159999381,
    "scale": 4297.384651088589
   },
   {
    "level": 18,
    "resolution": 1.8651805799996906,
    "scale": 2148.6923255442944
   },
   {
    "level": 19,
    "resolution": 0.9325902899998453,
    "scale": 1074.3461627721472
   },
   {
    "level": 20,
    "resolution": 0.46629514499992264,
    "scale": 537.1730813860736
   },
   {
    "level": 21,
    "resolution": 0.23314757249996132,
    "scale": 268.5865406930368
   }
  ]
 },
 "storageInfo": {
  "storageFormat": "esriMapCacheStorageModeCompactV2",
  "packetSize": 128
 },
 "cacheType": "Elevation",
 "allowRasterFunction": true,
 "rasterFunctionInfos": [
  {
   "name": "None",
   "description": "",
   "help": ""
  }
 ],
 "rasterTypeInfos": [
  {
   "name": "Raster Dataset",
   "description": "Supports all ArcGIS Raster Datasets",
   "help": ""
  }
 ],
 "mensurationCapabilities": "Basic",
 "hasHistograms": true,
 "hasColormap": false,
 "hasRasterAttributeTable": false,
 "minScale": 5.632668009874835E8,
 "maxScale": 268.5865406930368,
 "exportTilesAllowed": false,
 "supportsStatistics": false,
 "supportsAdvancedQueries": false,
 "editFieldsInfo": null,
 "ownershipBasedAccessControlForRasters": null,
 "allowComputeTiePoints": false,
 "useStandardizedQueries": true,
 "advancedQueryCapabilities": {
  "useStandardizedQueries": true,
  "supportsStatistics": false,
  "supportsOrderBy": false,
  "supportsDistinct": false,
  "supportsPagination": false
 },
 "spatialReference": {
  "wkid": 102646,
  "latestWkid": 2230
 }
}
