{
 "currentVersion": 11.5,
 "cimVersion": "3.5.0",
 "serviceDescription": " 2023<\/span> Anaheim Aerial Photo<\/span><\/p><\/div><\/div><\/div>",
 "mapName": "Current",
 "description": "2023 Anaheim Aerial Photo",
 "copyrightText": "",
 "supportsDynamicLayers": true,
 "layers": [
  {
   "id": 0,
   "name": "25_Anaheim_3IN_SP6.sid",
   "parentLayerId": -1,
   "defaultVisibility": true,
   "subLayerIds": null,
   "minScale": 0,
   "maxScale": 0,
   "type": "Raster Layer",
   "supportsDynamicLegends": true
  }
 ],
 "tables": [],
 "spatialReference": {
  "wkid": 102646,
  "latestWkid": 2230,
  "xyTolerance": 0.003280833333333333,
  "zTolerance": 0.001,
  "mTolerance": 0.001,
  "falseX": -118608900,
  "falseY": -91259500,
  "xyUnits": 3048.0060960121928,
  "falseZ": -100000,
  "zUnits": 10000,
  "falseM": -100000,
  "mUnits": 10000
 },
 "singleFusedMapCache": true,
 "tileInfo": {
  "rows": 512,
  "cols": 512,
  "dpi": 96,
  "format": "PNG",
  "compressionQuality": 0,
  "origin": {
   "x": -1.186084832119737E8,
   "y": 1.0619283300464755E8
  },
  "spatialReference": {
   "wkid": 102646,
   "latestWkid": 2230,
   "vcsWkid": 105703,
   "latestVcsWkid": 6360,
   "xyTolerance": 0.003280833333333333,
   "zTolerance": 0.001,
   "mTolerance": 0.001,
   "falseX": -118608900,
   "falseY": -91259500,
   "xyUnits": 3048.0060960121928,
   "falseZ": -100000,
   "zUnits": 10000,
   "falseM": -100000,
   "mUnits": 10000
  },
  "lods": [
   {
    "level": 0,
    "resolution": 488945.8979634389,
    "scale": 5.632668009874835E8
   },
   {
    "level": 1,
    "resolution": 244472.94898171944,
    "scale": 2.8163340049374175E8
   },
   {
    "level": 2,
    "resolution": 122236.47449085972,
    "scale": 1.4081670024687088E8
   },
   {
    "level": 3,
    "resolution": 61118.23724542986,
    "scale": 7.040835012343544E7
   },
   {
    "level": 4,
    "resolution": 30559.11862271493,
    "scale": 3.520417506171772E7
   },
   {
    "level": 5,
    "resolution": 15279.559311357465,
    "scale": 1.760208753085886E7
   },
   {
    "level": 6,
    "resolution": 7639.7796556787325,
    "scale": 8801043.76542943
   },
   {
    "level": 7,
    "resolution": 3819.8898278393663,
    "scale": 4400521.882714715
   },
   {
    "level": 8,
    "resolution": 1909.9449139196831,
    "scale": 2200260.9413573574
   },
   {
    "level": 9,
    "resolution": 954.9724569598416,
    "scale": 1100130.4706786787
   },
   {
    "level": 10,
    "resolution": 477.4862284799208,
    "scale": 550065.2353393394
   },
   {
    "level": 11,
    "resolution": 238.7431142399604,
    "scale": 275032.6176696697
   },
   {
    "level": 12,
    "resolution": 119.3715571199802,
    "scale": 137516.30883483484
   },
   {
    "level": 13,
    "resolution": 59.6857785599901,
    "scale": 68758.15441741742
   },
   {
    "level": 14,
    "resolution": 29.84288927999505,
    "scale": 34379.07720870871
   },
   {
    "level": 15,
    "resolution": 14.921444639997524,
    "scale": 17189.538604354355
   },
   {
    "level": 16,
    "resolution": 7.460722319998762,
    "scale": 8594.769302177177
   },
   {
    "level": 17,
    "resolution": 3.730361159999381,
    "scale": 4297.384651088589
   },
   {
    "level": 18,
    "resolution": 1.8651805799996906,
    "scale": 2148.6923255442944
   },
   {
    "level": 19,
    "resolution": 0.9325902899998453,
    "scale": 1074.3461627721472
   },
   {
    "level": 20,
    "resolution": 0.46629514499992264,
    "scale": 537.1730813860736
   },
   {
    "level": 21,
    "resolution": 0.23314757249996132,
    "scale": 268.5865406930368
   }
  ]
 },
 "storageInfo": {
  "storageFormat": "esriMapCacheStorageModeCompactV2",
  "packetSize": 128
 },
 "initialExtent": {
  "xmin": 6030701.961675643,
  "ymin": 2206404.1244573267,
  "xmax": 6124991.300718664,
  "ymax": 2293385.1411602916,
  "spatialReference": {
   "wkid": 102646,
   "latestWkid": 2230,
   "xyTolerance": 0.003280833333333333,
   "zTolerance": 0.001,
   "mTolerance": 0.001,
   "falseX": -118608900,
   "falseY": -91259500,
   "xyUnits": 3048.0060960121928,
   "falseZ": -100000,
   "zUnits": 10000,
   "falseM": -100000,
   "mUnits": 10000
  }
 },
 "fullExtent": {
  "xmin": 6019763.439878149,
  "ymin": 2224543.14088822,
  "xmax": 6135929.822516158,
  "ymax": 2275246.124729398,
  "spatialReference": {
   "wkid": 102646,
   "latestWkid": 2230,
   "xyTolerance": 0.003280833333333333,
   "zTolerance": 0.001,
   "mTolerance": 0.001,
   "falseX": -118608900,
   "falseY": -91259500,
   "xyUnits": 3048.0060960121928,
   "falseZ": -100000,
   "zUnits": 10000,
   "falseM": -100000,
   "mUnits": 10000
  }
 },
 "datesInUnknownTimezone": false,
 "minScale": 5.632668009874835E8,
 "maxScale": 268.5865406930368,
 "units": "esriFeet",
 "supportedImageFormatTypes": "PNG32,PNG24,PNG,JPG,DIB,TIFF,EMF,PS,PDF,GIF,SVG,SVGZ,BMP",
 "documentInfo": {
  "Title": "AerialPhoto",
  "Author": "",
  "Comments": "2024 Anaheim Aerial Photo",
  "Subject": "2024 Anaheim Aerial Photo",
  "Category": "",
  "Version": "3.5.0",
  "AntialiasingMode": "Fast",
  "TextAntialiasingMode": "Force",
  "Keywords": "AerialPhoto"
 },
 "supportsQueryDomains": true,
 "capabilities": "Query,Map,Data",
 "supportedQueryFormats": "JSON, geoJSON, PBF",
 "exportTilesAllowed": true,
 "maxExportTilesCount": 100000,
 "referenceScale": 0.0,
 "datumTransformations": [
  {
   "geoTransforms": [
    {
     "wkid": 108001,
     "latestWkid": 1241,
     "transformForward": true,
     "name": "NAD_1927_To_NAD_1983_NADCON"
    }
   ]
  },
  {
   "geoTransforms": [
    {
     "wkid": 108001,
     "latestWkid": 1241,
     "transformForward": false,
     "name": "NAD_1927_To_NAD_1983_NADCON"
    }
   ]
  }
 ],
 "supportsDatumTransformation": true,
 "floorAwareMapProperties": {
  "defaultFloorFilterSettings": {
   "isEnabled": false
  }
 },
 "archivingInfo": {
  "supportsHistoricMoment": false
 },
 "supportsClipping": true,
 "supportsSpatialFilter": true,
 "supportsTimeRelation": true,
 "supportsQueryDataElements": true,
 "mapUnits": {
  "uwkid": 9003
 },
 "maxSelectionCount": 2000,
 "maxRecordCount": 2000,
 "maxImageHeight": 4096,
 "maxImageWidth": 4096,
 "supportedExtensions": "",
 "serviceItemId": "30f0aef19dbe44e2bbdc2ba199ec94bc"
}
